BEGIN:VCALENDAR
VERSION:2.0
PRODID:-//La lampe de Yéhoshoua - ECPv6.15.20//NONSGML v1.0//EN
CALSCALE:GREGORIAN
METHOD:PUBLISH
X-ORIGINAL-URL:https://lalampedeyehoshoua.org
X-WR-CALDESC:Évènements pour La lampe de Yéhoshoua
REFRESH-INTERVAL;VALUE=DURATION:PT1H
X-Robots-Tag:noindex
X-PUBLISHED-TTL:PT1H
BEGIN:VTIMEZONE
TZID:Europe/Paris
BEGIN:DAYLIGHT
TZOFFSETFROM:+0100
TZOFFSETTO:+0200
TZNAME:CEST
DTSTART:20240331T010000
END:DAYLIGHT
BEGIN:STANDARD
TZOFFSETFROM:+0200
TZOFFSETTO:+0100
TZNAME:CET
DTSTART:20241027T010000
END:STANDARD
BEGIN:DAYLIGHT
TZOFFSETFROM:+0100
TZOFFSETTO:+0200
TZNAME:CEST
DTSTART:20250330T010000
END:DAYLIGHT
BEGIN:STANDARD
TZOFFSETFROM:+0200
TZOFFSETTO:+0100
TZNAME:CET
DTSTART:20251026T010000
END:STANDARD
BEGIN:DAYLIGHT
TZOFFSETFROM:+0100
TZOFFSETTO:+0200
TZNAME:CEST
DTSTART:20260329T010000
END:DAYLIGHT
BEGIN:STANDARD
TZOFFSETFROM:+0200
TZOFFSETTO:+0100
TZNAME:CET
DTSTART:20261025T010000
END:STANDARD
END:VTIMEZONE
BEGIN:VEVENT
DTSTART;VALUE=DATE:20250301
DTEND;VALUE=DATE:20250303
DTSTAMP:20260421T082528
CREATED:20250126T092802Z
LAST-MODIFIED:20250126T092802Z
UID:1622-1740787200-1740959999@lalampedeyehoshoua.org
SUMMARY:Réunions de réveil - Marseille
DESCRIPTION:
URL:https://lalampedeyehoshoua.org/evenement/reunions-de-reveil-marseille/
LOCATION:Espace Arena\, 32 Bd Frédéric Sauvage\, Marseille\, 13014\, France
ATTACH;FMTTYPE=image/png:https://lalampedeyehoshoua.org/wp-content/uploads/2025/01/marseille.png
ORGANIZER;CN="Tv2vie":MAILTO:contact@tv2vie.org
END:VEVENT
BEGIN:VEVENT
DTSTART;TZID=Europe/Paris:20250307T220000
DTEND;TZID=Europe/Paris:20250308T050000
DTSTAMP:20260421T082528
CREATED:20250305T091710Z
LAST-MODIFIED:20250305T091710Z
UID:1763-1741384800-1741410000@lalampedeyehoshoua.org
SUMMARY:Veillée des femmes - Meaux 🇫🇷
DESCRIPTION:Une salutation aux filles du Roi 🌸 \nRendez-vous le vendredi 7 mars à partir de 22h à Villenoy\, près de la ville de Meaux. \nUne occasion de pouvoir échanger autour de la parole et de s’encourager. N’hésitez pas à inviter vos mères\, tantes\, sœurs\, amies… \nContact : 0781488780
URL:https://lalampedeyehoshoua.org/evenement/veillee-des-femmes-meaux-%f0%9f%87%ab%f0%9f%87%b7/
LOCATION:Assemblée de Meaux\, 41 rue Aristide Briand\, Villenoy\, 77124\, France
END:VEVENT
BEGIN:VEVENT
DTSTART;TZID=Europe/Paris:20250309T110000
DTEND;TZID=Europe/Paris:20250309T130000
DTSTAMP:20260421T082528
CREATED:20250222T104425Z
LAST-MODIFIED:20250226T214002Z
UID:1732-1741518000-1741525200@lalampedeyehoshoua.org
SUMMARY:Un temps à Orléans 🇫🇷
DESCRIPTION:Actes (Actes) 2 \n42 Et ils persévéraient tous dans la doctrine des apôtres\, dans la communion fraternelle\, dans la fraction du pain et dans les prières. \nBible de Yéhoshoua ha Mashiah (BYM)
URL:https://lalampedeyehoshoua.org/evenement/un-temps-a-orleans/
LOCATION:Hôtel Campanile\, 40 rue de la république\, Orléans\, 45000\, France
END:VEVENT
BEGIN:VEVENT
DTSTART;VALUE=DATE:20250315
DTEND;VALUE=DATE:20250317
DTSTAMP:20260421T082528
CREATED:20250211T112839Z
LAST-MODIFIED:20250211T112839Z
UID:1694-1741996800-1742169599@lalampedeyehoshoua.org
SUMMARY:Temps de partage - Lyon 🇫🇷
DESCRIPTION:Actes (Actes) 2 \n42 Et ils persévéraient tous dans la doctrine des apôtres\, dans la communion fraternelle\, dans la fraction du pain et dans les prières. \nBible de Yéhoshoua ha Mashiah (BYM)
URL:https://lalampedeyehoshoua.org/evenement/temps-de-partage-lyon-%f0%9f%87%ab%f0%9f%87%b7/
ATTACH;FMTTYPE=image/jpeg:https://lalampedeyehoshoua.org/wp-content/uploads/2025/02/WhatsApp-Image-2025-02-10-a-15.58.22_ca7d724b.jpg
ORGANIZER;CN="Un Temps Pour Y%C3%A9hoshoua":MAILTO:untempspourjesus@gmail.com
END:VEVENT
BEGIN:VEVENT
DTSTART;VALUE=DATE:20250315
DTEND;VALUE=DATE:20250318
DTSTAMP:20260421T082528
CREATED:20250211T155045Z
LAST-MODIFIED:20250211T155045Z
UID:1698-1741996800-1742255999@lalampedeyehoshoua.org
SUMMARY:Réunions de réveil - Côte d'Ivoire 🇨🇮
DESCRIPTION:Réunions de réveil et consultations médicales gratuites. \nPour plus d’informations\, rendez-vous sur le site internet de TV2VIE – https://www.tv2vie.org
URL:https://lalampedeyehoshoua.org/evenement/reunions-de-reveil-cote-divoire-%f0%9f%87%a8%f0%9f%87%ae/
LOCATION:Espace Marthe\, Yopougon Ancien Bel Air\, Abidjan\, Côte d'Ivoire
ATTACH;FMTTYPE=image/png:https://lalampedeyehoshoua.org/wp-content/uploads/2025/02/Template_slide_internationale_2.png
ORGANIZER;CN="Tv2vie":MAILTO:contact@tv2vie.org
END:VEVENT
BEGIN:VEVENT
DTSTART;VALUE=DATE:20250319
DTEND;VALUE=DATE:20250323
DTSTAMP:20260421T082528
CREATED:20250303T202355Z
LAST-MODIFIED:20250303T202355Z
UID:1759-1742342400-1742687999@lalampedeyehoshoua.org
SUMMARY:Réunions de réveil - Bénin 🇧🇯
DESCRIPTION:Pour plus d’informations\, rendez-vous sur le site internet de TV2VIE – https://www.tv2vie.org ou sur la chaîne WhatsApp
URL:https://lalampedeyehoshoua.org/evenement/reunions-de-reveil-benin-%f0%9f%87%a7%f0%9f%87%af/
ORGANIZER;CN="Tv2vie":MAILTO:contact@tv2vie.org
END:VEVENT
BEGIN:VEVENT
DTSTART;VALUE=DATE:20250329
DTEND;VALUE=DATE:20250331
DTSTAMP:20260421T082528
CREATED:20250226T213517Z
LAST-MODIFIED:20250226T213517Z
UID:1747-1743206400-1743379199@lalampedeyehoshoua.org
SUMMARY:Week-end de prière à Chartres 🇫🇷
DESCRIPTION:Actes (Actes) 2 \n42 Et ils persévéraient tous dans la doctrine des apôtres\, dans la communion fraternelle\, dans la fraction du pain et dans les prières. \nBible de Yéhoshoua ha Mashiah (BYM)
URL:https://lalampedeyehoshoua.org/evenement/week-end-de-priere-a-chartres-%f0%9f%87%ab%f0%9f%87%b7/
LOCATION:Hôtel Kyriad\, 24 avenue Gustave Eiffel\, Chartres\, 28000\, France
ATTACH;FMTTYPE=image/jpeg:https://lalampedeyehoshoua.org/wp-content/uploads/2025/02/77997125-8314-453b-a72f-c85a2b30c4e6.jpeg
END:VEVENT
BEGIN:VEVENT
DTSTART;VALUE=DATE:20250330
DTEND;VALUE=DATE:20250331
DTSTAMP:20260421T082528
CREATED:20250226T213827Z
LAST-MODIFIED:20250226T213827Z
UID:1751-1743292800-1743379199@lalampedeyehoshoua.org
SUMMARY:Un temps à Amiens 🇫🇷
DESCRIPTION:Actes (Actes) 2 \n42 Et ils persévéraient tous dans la doctrine des apôtres\, dans la communion fraternelle\, dans la fraction du pain et dans les prières. \nBible de Yéhoshoua ha Mashiah (BYM)
URL:https://lalampedeyehoshoua.org/evenement/un-temps-a-amiens-%f0%9f%87%ab%f0%9f%87%b7/
END:VEVENT
END:VCALENDAR