BEGIN:VCALENDAR
VERSION:2.0
PRODID:-//La lampe de Yéhoshoua - ECPv6.15.20//NONSGML v1.0//EN
CALSCALE:GREGORIAN
METHOD:PUBLISH
X-WR-CALNAME:La lampe de Yéhoshoua
X-ORIGINAL-URL:https://lalampedeyehoshoua.org
X-WR-CALDESC:Évènements pour La lampe de Yéhoshoua
REFRESH-INTERVAL;VALUE=DURATION:PT1H
X-Robots-Tag:noindex
X-PUBLISHED-TTL:PT1H
BEGIN:VTIMEZONE
TZID:Europe/Paris
BEGIN:DAYLIGHT
TZOFFSETFROM:+0100
TZOFFSETTO:+0200
TZNAME:CEST
DTSTART:20230326T010000
END:DAYLIGHT
BEGIN:STANDARD
TZOFFSETFROM:+0200
TZOFFSETTO:+0100
TZNAME:CET
DTSTART:20231029T010000
END:STANDARD
BEGIN:DAYLIGHT
TZOFFSETFROM:+0100
TZOFFSETTO:+0200
TZNAME:CEST
DTSTART:20240331T010000
END:DAYLIGHT
BEGIN:STANDARD
TZOFFSETFROM:+0200
TZOFFSETTO:+0100
TZNAME:CET
DTSTART:20241027T010000
END:STANDARD
BEGIN:DAYLIGHT
TZOFFSETFROM:+0100
TZOFFSETTO:+0200
TZNAME:CEST
DTSTART:20250330T010000
END:DAYLIGHT
BEGIN:STANDARD
TZOFFSETFROM:+0200
TZOFFSETTO:+0100
TZNAME:CET
DTSTART:20251026T010000
END:STANDARD
BEGIN:DAYLIGHT
TZOFFSETFROM:+0100
TZOFFSETTO:+0200
TZNAME:CEST
DTSTART:20260329T010000
END:DAYLIGHT
BEGIN:STANDARD
TZOFFSETFROM:+0200
TZOFFSETTO:+0100
TZNAME:CET
DTSTART:20261025T010000
END:STANDARD
END:VTIMEZONE
BEGIN:VEVENT
DTSTART;VALUE=DATE:20241129
DTEND;VALUE=DATE:20241204
DTSTAMP:20260421T131615
CREATED:20241113T212505Z
LAST-MODIFIED:20241113T212505Z
UID:1415-1732838400-1733270399@lalampedeyehoshoua.org
SUMMARY:Réunion de réveil - Madagascar 🇲🇬
DESCRIPTION:
URL:https://lalampedeyehoshoua.org/evenement/reunion-de-reveil-madagascar-%f0%9f%87%b2%f0%9f%87%ac/
ATTACH;FMTTYPE=image/png:https://lalampedeyehoshoua.org/wp-content/uploads/2024/11/IMG_3610.png
ORGANIZER;CN="Tv2vie":MAILTO:contact@tv2vie.org
END:VEVENT
BEGIN:VEVENT
DTSTART;VALUE=DATE:20241130
DTEND;VALUE=DATE:20241202
DTSTAMP:20260421T131615
CREATED:20241120T162843Z
LAST-MODIFIED:20241120T162843Z
UID:1424-1732924800-1733097599@lalampedeyehoshoua.org
SUMMARY:Rassemblement des saints à Lyon 🇫🇷
DESCRIPTION:⚠️ INFORMATIONS ⚠️ \nSamedi 30 novembre 2024 à 18h \nDimanche 1 décembre 2024 à 11h \nL’adresse vous sera communiquée dans les prochains jours…
URL:https://lalampedeyehoshoua.org/evenement/rassemblement-des-saints-a-lyon-%f0%9f%87%ab%f0%9f%87%b7/
ORGANIZER;CN="Un Temps Pour Y%C3%A9hoshoua":MAILTO:untempspourjesus@gmail.com
END:VEVENT
BEGIN:VEVENT
DTSTART;TZID=Europe/Paris:20241206T220000
DTEND;TZID=Europe/Paris:20241207T050000
DTSTAMP:20260421T131615
CREATED:20241205T035358Z
LAST-MODIFIED:20241205T035358Z
UID:1443-1733522400-1733547600@lalampedeyehoshoua.org
SUMMARY:Veillée de prière et d’enseignement
DESCRIPTION:
URL:https://lalampedeyehoshoua.org/evenement/veillee-de-priere-et-denseignement/
LOCATION:Assemblée de Meaux\, 41 rue Aristide Briand\, Villenoy\, 77124\, France
ORGANIZER;CN="Un Temps Pour Y%C3%A9hoshoua":MAILTO:untempspourjesus@gmail.com
END:VEVENT
BEGIN:VEVENT
DTSTART;TZID=Europe/Paris:20241208T140000
DTEND;TZID=Europe/Paris:20241208T170000
DTSTAMP:20260421T131615
CREATED:20241126T100139Z
LAST-MODIFIED:20241126T100139Z
UID:1435-1733666400-1733677200@lalampedeyehoshoua.org
SUMMARY:Revival meeting - London 🇬🇧
DESCRIPTION:
URL:https://lalampedeyehoshoua.org/evenement/revival-meeting-london-%f0%9f%87%ac%f0%9f%87%a7/
ATTACH;FMTTYPE=image/png:https://lalampedeyehoshoua.org/wp-content/uploads/2024/11/IMG_3694.png
ORGANIZER;CN="Tv2vie":MAILTO:contact@tv2vie.org
END:VEVENT
BEGIN:VEVENT
DTSTART;TZID=Europe/Paris:20241227T120000
DTEND;TZID=Europe/Paris:20241228T050000
DTSTAMP:20260421T131615
CREATED:20240805T231752Z
LAST-MODIFIED:20241214T230251Z
UID:1270-1735300800-1735362000@lalampedeyehoshoua.org
SUMMARY:Nuit d'actions de grâce 🇫🇷
DESCRIPTION:
URL:https://lalampedeyehoshoua.org/evenement/nuit-dactions-de-grace/
LOCATION:Espace Venise\, 30 route de Groslay\, Sarcelles\, 95200\, France
ATTACH;FMTTYPE=image/png:https://lalampedeyehoshoua.org/wp-content/uploads/2024/08/IMG_5266.png
ORGANIZER;CN="Tv2vie":MAILTO:contact@tv2vie.org
END:VEVENT
BEGIN:VEVENT
DTSTART;VALUE=DATE:20241230
DTEND;VALUE=DATE:20250102
DTSTAMP:20260421T131615
CREATED:20241224T013257Z
LAST-MODIFIED:20241224T133843Z
UID:1469-1735516800-1735775999@lalampedeyehoshoua.org
SUMMARY:Formation biblique - EVRY 🇫🇷
DESCRIPTION:⚠️ Il y aura 2 sessions par jour : 1 le matin et 1 le soir
URL:https://lalampedeyehoshoua.org/evenement/formation-biblique-%f0%9f%87%ab%f0%9f%87%b7/
LOCATION:TV2VIE (EVRY)\, 26 rue Charles Fourier\, EVRY-COURCOURONNES\, 91000\, France
ATTACH;FMTTYPE=image/png:https://lalampedeyehoshoua.org/wp-content/uploads/2024/12/IMG_4007.png
ORGANIZER;CN="Tv2vie":MAILTO:contact@tv2vie.org
END:VEVENT
END:VCALENDAR