BEGIN:VCALENDAR
VERSION:2.0
PRODID:-//La lampe de Yéhoshoua - ECPv6.15.20//NONSGML v1.0//EN
CALSCALE:GREGORIAN
METHOD:PUBLISH
X-WR-CALNAME:La lampe de Yéhoshoua
X-ORIGINAL-URL:https://lalampedeyehoshoua.org
X-WR-CALDESC:Évènements pour La lampe de Yéhoshoua
REFRESH-INTERVAL;VALUE=DURATION:PT1H
X-Robots-Tag:noindex
X-PUBLISHED-TTL:PT1H
BEGIN:VTIMEZONE
TZID:Europe/Paris
BEGIN:DAYLIGHT
TZOFFSETFROM:+0100
TZOFFSETTO:+0200
TZNAME:CEST
DTSTART:20230326T010000
END:DAYLIGHT
BEGIN:STANDARD
TZOFFSETFROM:+0200
TZOFFSETTO:+0100
TZNAME:CET
DTSTART:20231029T010000
END:STANDARD
BEGIN:DAYLIGHT
TZOFFSETFROM:+0100
TZOFFSETTO:+0200
TZNAME:CEST
DTSTART:20240331T010000
END:DAYLIGHT
BEGIN:STANDARD
TZOFFSETFROM:+0200
TZOFFSETTO:+0100
TZNAME:CET
DTSTART:20241027T010000
END:STANDARD
BEGIN:DAYLIGHT
TZOFFSETFROM:+0100
TZOFFSETTO:+0200
TZNAME:CEST
DTSTART:20250330T010000
END:DAYLIGHT
BEGIN:STANDARD
TZOFFSETFROM:+0200
TZOFFSETTO:+0100
TZNAME:CET
DTSTART:20251026T010000
END:STANDARD
END:VTIMEZONE
BEGIN:VEVENT
DTSTART;VALUE=DATE:20240831
DTEND;VALUE=DATE:20240902
DTSTAMP:20260421T180858
CREATED:20240805T232517Z
LAST-MODIFIED:20240805T232517Z
UID:1274-1725062400-1725235199@lalampedeyehoshoua.org
SUMMARY:Réunion de réveil - Martinique 🇫🇷
DESCRIPTION:
URL:https://lalampedeyehoshoua.org/evenement/reunion-de-reveil-martinique-%f0%9f%87%ab%f0%9f%87%b7/
ORGANIZER;CN="Tv2vie":MAILTO:contact@tv2vie.org
END:VEVENT
BEGIN:VEVENT
DTSTART;VALUE=DATE:20240904
DTEND;VALUE=DATE:20240907
DTSTAMP:20260421T180858
CREATED:20240805T233332Z
LAST-MODIFIED:20240901T180515Z
UID:1278-1725408000-1725667199@lalampedeyehoshoua.org
SUMMARY:Réunion de réveil - Guadeloupe 🇫🇷
DESCRIPTION:
URL:https://lalampedeyehoshoua.org/evenement/reunion-de-reveil-guadeloupe-%f0%9f%87%ab%f0%9f%87%b7/
ORGANIZER;CN="Tv2vie":MAILTO:contact@tv2vie.org
END:VEVENT
BEGIN:VEVENT
DTSTART;VALUE=DATE:20240907
DTEND;VALUE=DATE:20240910
DTSTAMP:20260421T180858
CREATED:20240805T235803Z
LAST-MODIFIED:20240805T235803Z
UID:1282-1725667200-1725926399@lalampedeyehoshoua.org
SUMMARY:Réunion de réveil - Guadeloupe 🇫🇷
DESCRIPTION:
URL:https://lalampedeyehoshoua.org/evenement/reunion-de-reveil-guadeloupe-%f0%9f%87%ab%f0%9f%87%b7-2/
ORGANIZER;CN="Tv2vie":MAILTO:contact@tv2vie.org
END:VEVENT
END:VCALENDAR