BEGIN:VCALENDAR
VERSION:2.0
PRODID:-//La lampe de Yéhoshoua - ECPv6.15.20//NONSGML v1.0//EN
CALSCALE:GREGORIAN
METHOD:PUBLISH
X-WR-CALNAME:La lampe de Yéhoshoua
X-ORIGINAL-URL:https://lalampedeyehoshoua.org
X-WR-CALDESC:Évènements pour La lampe de Yéhoshoua
REFRESH-INTERVAL;VALUE=DURATION:PT1H
X-Robots-Tag:noindex
X-PUBLISHED-TTL:PT1H
BEGIN:VTIMEZONE
TZID:Europe/Paris
BEGIN:DAYLIGHT
TZOFFSETFROM:+0100
TZOFFSETTO:+0200
TZNAME:CEST
DTSTART:20230326T010000
END:DAYLIGHT
BEGIN:STANDARD
TZOFFSETFROM:+0200
TZOFFSETTO:+0100
TZNAME:CET
DTSTART:20231029T010000
END:STANDARD
BEGIN:DAYLIGHT
TZOFFSETFROM:+0100
TZOFFSETTO:+0200
TZNAME:CEST
DTSTART:20240331T010000
END:DAYLIGHT
BEGIN:STANDARD
TZOFFSETFROM:+0200
TZOFFSETTO:+0100
TZNAME:CET
DTSTART:20241027T010000
END:STANDARD
BEGIN:DAYLIGHT
TZOFFSETFROM:+0100
TZOFFSETTO:+0200
TZNAME:CEST
DTSTART:20250330T010000
END:DAYLIGHT
BEGIN:STANDARD
TZOFFSETFROM:+0200
TZOFFSETTO:+0100
TZNAME:CET
DTSTART:20251026T010000
END:STANDARD
END:VTIMEZONE
BEGIN:VEVENT
DTSTART;VALUE=DATE:20240502
DTEND;VALUE=DATE:20240512
DTSTAMP:20260422T003405
CREATED:20240422T131335Z
LAST-MODIFIED:20240429T220635Z
UID:513-1714608000-1715471999@lalampedeyehoshoua.org
SUMMARY:Mission en Côte d'Ivoire
DESCRIPTION:
URL:https://lalampedeyehoshoua.org/evenement/mission-ci/
LOCATION:Kinshasa
ORGANIZER;CN="Tv2vie":MAILTO:contact@tv2vie.org
END:VEVENT
BEGIN:VEVENT
DTSTART;VALUE=DATE:20240504
DTEND;VALUE=DATE:20240506
DTSTAMP:20260422T003405
CREATED:20240425T205347Z
LAST-MODIFIED:20240430T150414Z
UID:732-1714780800-1714953599@lalampedeyehoshoua.org
SUMMARY:Réunions de réveil à Lyon
DESCRIPTION:
URL:https://lalampedeyehoshoua.org/evenement/reunion-de-reveil-a-lyon/
LOCATION:Kinshasa
END:VEVENT
BEGIN:VEVENT
DTSTART;VALUE=DATE:20240511
DTEND;VALUE=DATE:20240513
DTSTAMP:20260422T003405
CREATED:20240429T165506Z
LAST-MODIFIED:20240429T221040Z
UID:907-1715385600-1715558399@lalampedeyehoshoua.org
SUMMARY:Réunions de partage et prière à Rennes
DESCRIPTION:Samedi 11 mai à 14h \nDimanche 12 mai à 11h
URL:https://lalampedeyehoshoua.org/evenement/reunions-de-partage-et-priere-rennes/
LOCATION:Kinshasa
END:VEVENT
BEGIN:VEVENT
DTSTART;VALUE=DATE:20240517
DTEND;VALUE=DATE:20240520
DTSTAMP:20260422T003405
CREATED:20240429T164033Z
LAST-MODIFIED:20240430T150454Z
UID:903-1715904000-1716163199@lalampedeyehoshoua.org
SUMMARY:Formation biblique en République Démocratique du Congo
DESCRIPTION:A partir de 16h
URL:https://lalampedeyehoshoua.org/evenement/3-jours-de-formation-biblique/
LOCATION:Kinshasa
ORGANIZER;CN="Vases de terre":MAILTO:vases2terre@gmail.com
END:VEVENT
BEGIN:VEVENT
DTSTART;VALUE=DATE:20240518
DTEND;VALUE=DATE:20240520
DTSTAMP:20260422T003405
CREATED:20240425T211538Z
LAST-MODIFIED:20240515T073237Z
UID:749-1715990400-1716163199@lalampedeyehoshoua.org
SUMMARY:Mission en Suisse
DESCRIPTION:
URL:https://lalampedeyehoshoua.org/evenement/mission-en-suisse/
LOCATION:Kinshasa
ORGANIZER;CN="Tv2vie":MAILTO:contact@tv2vie.org
END:VEVENT
BEGIN:VEVENT
DTSTART;TZID=Europe/Paris:20240519T130000
DTEND;TZID=Europe/Paris:20240519T170000
DTSTAMP:20260422T003405
CREATED:20240517T094740Z
LAST-MODIFIED:20240518T145201Z
UID:1012-1716123600-1716138000@lalampedeyehoshoua.org
SUMMARY:Temps de partage et de communion fraternelle
DESCRIPTION:⚠️ Changement d’horaire ⚠️ \nRendez-vous à 13h
URL:https://lalampedeyehoshoua.org/evenement/temps-de-partage-et-de-communion-fraternelle/
LOCATION:Kinshasa
ORGANIZER;CN="Oise pour Y%C3%A9hoshoua":MAILTO:oiselevetoipouryehoshoua@gmail.com
END:VEVENT
BEGIN:VEVENT
DTSTART;TZID=Europe/Paris:20240525T110000
DTEND;TZID=Europe/Paris:20240525T160000
DTSTAMP:20260422T003405
CREATED:20240515T071630Z
LAST-MODIFIED:20240515T071630Z
UID:997-1716634800-1716652800@lalampedeyehoshoua.org
SUMMARY:Réunion de réveil
DESCRIPTION:
URL:https://lalampedeyehoshoua.org/evenement/reunion-de-reveil/
LOCATION:Kinshasa
ORGANIZER;CN="Tv2vie":MAILTO:contact@tv2vie.org
END:VEVENT
BEGIN:VEVENT
DTSTART;TZID=Europe/Paris:20240526T110000
DTEND;TZID=Europe/Paris:20240526T160000
DTSTAMP:20260422T003405
CREATED:20240520T094348Z
LAST-MODIFIED:20240520T094348Z
UID:1023-1716721200-1716739200@lalampedeyehoshoua.org
SUMMARY:Réunion de réveil
DESCRIPTION:
URL:https://lalampedeyehoshoua.org/evenement/reunion-de-reveil-2/
LOCATION:Kinshasa
ORGANIZER;CN="Tv2vie":MAILTO:contact@tv2vie.org
END:VEVENT
BEGIN:VEVENT
DTSTART;VALUE=DATE:20240528
DTEND;VALUE=DATE:20240531
DTSTAMP:20260422T003405
CREATED:20240528T133654Z
LAST-MODIFIED:20240528T133654Z
UID:1028-1716854400-1717113599@lalampedeyehoshoua.org
SUMMARY:Formation biblique
DESCRIPTION:Thème : le tabernacle
URL:https://lalampedeyehoshoua.org/evenement/formation-biblique/
LOCATION:TV2VIE (EVRY)\, 26 rue Charles Fourier\, EVRY-COURCOURONNES\, 91000\, France
ORGANIZER;CN="Tv2vie":MAILTO:contact@tv2vie.org
END:VEVENT
END:VCALENDAR