BEGIN:VCALENDAR
VERSION:2.0
PRODID:-//La lampe de Yéhoshoua - ECPv6.15.20//NONSGML v1.0//EN
CALSCALE:GREGORIAN
METHOD:PUBLISH
X-WR-CALNAME:La lampe de Yéhoshoua
X-ORIGINAL-URL:https://lalampedeyehoshoua.org
X-WR-CALDESC:Évènements pour La lampe de Yéhoshoua
REFRESH-INTERVAL;VALUE=DURATION:PT1H
X-Robots-Tag:noindex
X-PUBLISHED-TTL:PT1H
BEGIN:VTIMEZONE
TZID:Europe/Paris
BEGIN:DAYLIGHT
TZOFFSETFROM:+0100
TZOFFSETTO:+0200
TZNAME:CEST
DTSTART:20240331T010000
END:DAYLIGHT
BEGIN:STANDARD
TZOFFSETFROM:+0200
TZOFFSETTO:+0100
TZNAME:CET
DTSTART:20241027T010000
END:STANDARD
BEGIN:DAYLIGHT
TZOFFSETFROM:+0100
TZOFFSETTO:+0200
TZNAME:CEST
DTSTART:20250330T010000
END:DAYLIGHT
BEGIN:STANDARD
TZOFFSETFROM:+0200
TZOFFSETTO:+0100
TZNAME:CET
DTSTART:20251026T010000
END:STANDARD
BEGIN:DAYLIGHT
TZOFFSETFROM:+0100
TZOFFSETTO:+0200
TZNAME:CEST
DTSTART:20260329T010000
END:DAYLIGHT
BEGIN:STANDARD
TZOFFSETFROM:+0200
TZOFFSETTO:+0100
TZNAME:CET
DTSTART:20261025T010000
END:STANDARD
BEGIN:DAYLIGHT
TZOFFSETFROM:+0100
TZOFFSETTO:+0200
TZNAME:CEST
DTSTART:20270328T010000
END:DAYLIGHT
BEGIN:STANDARD
TZOFFSETFROM:+0200
TZOFFSETTO:+0100
TZNAME:CET
DTSTART:20271031T010000
END:STANDARD
END:VTIMEZONE
BEGIN:VEVENT
DTSTART;VALUE=DATE:20260404
DTEND;VALUE=DATE:20260406
DTSTAMP:20260420T124800
CREATED:20260303T153012Z
LAST-MODIFIED:20260401T210512Z
UID:2290-1775260800-1775433599@lalampedeyehoshoua.org
SUMMARY:Temps de partage - Villeurbanne 🇫🇷
DESCRIPTION:Thème de l’enseignement : Le prophétisme biblique 🪔 \nPour plus détails\, suivez la chaîne Lyon Pour Yehoshoua sur WhatsApp : https://whatsapp.com/channel/0029Vain5hUGzzKSM2HtD81J
URL:https://lalampedeyehoshoua.org/evenement/temps-de-partage-villeurbanne-%f0%9f%87%ab%f0%9f%87%b7-5/
LOCATION:Salle Sainte Thérèse (Villeurbanne)\, 132 rue Louis Becker\, Villeurbanne\, 69100\, France
ORGANIZER;CN="YACHAD ELYON":MAILTO:yachadelyon@gmail.com
END:VEVENT
BEGIN:VEVENT
DTSTART;TZID=Europe/Paris:20260307T130000
DTEND;TZID=Europe/Paris:20260307T170000
DTSTAMP:20260420T124800
CREATED:20260303T153905Z
LAST-MODIFIED:20260303T182718Z
UID:2295-1772888400-1772902800@lalampedeyehoshoua.org
SUMMARY:Rencontre biblique 🇫🇷
DESCRIPTION:Pour plus détails\, suivez la chaîne Lyon Pour Yehoshoua sur WhatsApp : https://whatsapp.com/channel/0029Vain5hUGzzKSM2HtD81J
URL:https://lalampedeyehoshoua.org/evenement/rencontre-biblique-%f0%9f%87%ab%f0%9f%87%b7/
LOCATION:Salle Sainte Thérèse (Villeurbanne)\, 132 rue Louis Becker\, Villeurbanne\, 69100\, France
ATTACH;FMTTYPE=image/jpeg:https://lalampedeyehoshoua.org/wp-content/uploads/2026/03/img_0380.jpg
ORGANIZER;CN="YACHAD ELYON":MAILTO:yachadelyon@gmail.com
END:VEVENT
BEGIN:VEVENT
DTSTART;TZID=Europe/Paris:20260215T100000
DTEND;TZID=Europe/Paris:20260215T130000
DTSTAMP:20260420T124800
CREATED:20260131T021730Z
LAST-MODIFIED:20260131T022411Z
UID:2242-1771149600-1771160400@lalampedeyehoshoua.org
SUMMARY:Temps de partage - Villeurbanne 🇫🇷
DESCRIPTION:
URL:https://lalampedeyehoshoua.org/evenement/temps-de-partage-biblique-villeurbanne-%f0%9f%87%ab%f0%9f%87%b7/
LOCATION:Salle Sainte Thérèse (Villeurbanne)\, 132 rue Louis Becker\, Villeurbanne\, 69100\, France
ORGANIZER;CN="YACHAD ELYON":MAILTO:yachadelyon@gmail.com
END:VEVENT
BEGIN:VEVENT
DTSTART;VALUE=DATE:20260214
DTEND;VALUE=DATE:20260215
DTSTAMP:20260420T124800
CREATED:20260131T020818Z
LAST-MODIFIED:20260131T022829Z
UID:2238-1771027200-1771113599@lalampedeyehoshoua.org
SUMMARY:Banquet solidaire - Villeurbanne 🇫🇷
DESCRIPTION:Pour plus d’informations au sujet de l’événement\, rendez-vous sur la page WhatsApp à l’adresse : https://whatsapp.com/channel/0029Vain5hUGzzKSM2HtD81J
URL:https://lalampedeyehoshoua.org/evenement/banquet-solidaire/
LOCATION:Salle Sainte Thérèse (Villeurbanne)\, 132 rue Louis Becker\, Villeurbanne\, 69100\, France
ORGANIZER;CN="YACHAD ELYON":MAILTO:yachadelyon@gmail.com
END:VEVENT
BEGIN:VEVENT
DTSTART;TZID=Europe/Paris:20260111T100000
DTEND;TZID=Europe/Paris:20260111T140000
DTSTAMP:20260420T124800
CREATED:20260104T233907Z
LAST-MODIFIED:20260104T233907Z
UID:2210-1768125600-1768140000@lalampedeyehoshoua.org
SUMMARY:Temps de partage - Orléans 🇫🇷
DESCRIPTION:
URL:https://lalampedeyehoshoua.org/evenement/temps-de-partage-orleans-%f0%9f%87%ab%f0%9f%87%b7/
LOCATION:Hôtel Campanile\, 40 rue de la république\, Orléans\, 45000\, France
END:VEVENT
BEGIN:VEVENT
DTSTART;TZID=Europe/Paris:20260104T100000
DTEND;TZID=Europe/Paris:20260104T130000
DTSTAMP:20260420T124800
CREATED:20251208T210503Z
LAST-MODIFIED:20251208T210503Z
UID:2190-1767520800-1767531600@lalampedeyehoshoua.org
SUMMARY:Temps de partage - Villeurbanne 🇫🇷
DESCRIPTION:
URL:https://lalampedeyehoshoua.org/evenement/temps-de-partage-villeurbanne-%f0%9f%87%ab%f0%9f%87%b7-4/
LOCATION:Salle Sainte Thérèse (Villeurbanne)\, 132 rue Louis Becker\, Villeurbanne\, 69100\, France
ORGANIZER;CN="YACHAD ELYON":MAILTO:yachadelyon@gmail.com
END:VEVENT
BEGIN:VEVENT
DTSTART;TZID=Europe/Paris:20260103T140000
DTEND;TZID=Europe/Paris:20260103T170000
DTSTAMP:20260420T124800
CREATED:20251208T210404Z
LAST-MODIFIED:20251208T210404Z
UID:2187-1767448800-1767459600@lalampedeyehoshoua.org
SUMMARY:Temps de partage - Villeurbanne 🇫🇷
DESCRIPTION:
URL:https://lalampedeyehoshoua.org/evenement/temps-de-partage-villeurbanne-%f0%9f%87%ab%f0%9f%87%b7-3/
LOCATION:Salle Sainte Thérèse (Villeurbanne)\, 132 rue Louis Becker\, Villeurbanne\, 69100\, France
ORGANIZER;CN="YACHAD ELYON":MAILTO:yachadelyon@gmail.com
END:VEVENT
BEGIN:VEVENT
DTSTART;VALUE=DATE:20251219
DTEND;VALUE=DATE:20251221
DTSTAMP:20260420T124800
CREATED:20250204T234818Z
LAST-MODIFIED:20250204T234855Z
UID:1660-1766102400-1766275199@lalampedeyehoshoua.org
SUMMARY:Nuit d’actions de grâce 🇫🇷
DESCRIPTION:Pour plus d’informations\, rendez-vous sur le site internet de Tv2vie – https://www.tv2vie.org
URL:https://lalampedeyehoshoua.org/evenement/nuit-dactions-de-grace-%f0%9f%87%ab%f0%9f%87%b7/
LOCATION:Espace Venise\, 30 route de Groslay\, Sarcelles\, 95200\, France
ATTACH;FMTTYPE=image/png:https://lalampedeyehoshoua.org/wp-content/uploads/2025/02/IMG_4532.png
ORGANIZER;CN="Tv2vie":MAILTO:contact@tv2vie.org
END:VEVENT
BEGIN:VEVENT
DTSTART;TZID=Europe/Paris:20251201T203000
DTEND;TZID=Europe/Paris:20251201T223000
DTSTAMP:20260420T124800
CREATED:20251028T222010Z
LAST-MODIFIED:20251111T173740Z
UID:2125-1764621000-1764628200@lalampedeyehoshoua.org
SUMMARY:Atelier d’écriture - Session #5
DESCRIPTION:Atelier d’écriture – Session #5 \nThème : Outils d’intelligence artificielle \n⚠️ Inscription obligatoire (30 pers. max.) 👉 https://anothenlibrary.org/events
URL:https://lalampedeyehoshoua.org/evenement/atelier-decriture-session-5/
ATTACH;FMTTYPE=image/jpeg:https://lalampedeyehoshoua.org/wp-content/uploads/2025/11/5b49e792-fe7a-4e33-984f-91fe99a559b4.jpg
ORGANIZER;CN="Anothen Library":MAILTO:contact@anothenlibrary.org
END:VEVENT
BEGIN:VEVENT
DTSTART;TZID=Europe/Paris:20251123T100000
DTEND;TZID=Europe/Paris:20251123T130000
DTSTAMP:20260420T124800
CREATED:20251105T175631Z
LAST-MODIFIED:20251105T175631Z
UID:2137-1763892000-1763902800@lalampedeyehoshoua.org
SUMMARY:Temps de partage - Villeurbanne 🇫🇷
DESCRIPTION:
URL:https://lalampedeyehoshoua.org/evenement/temps-de-partage-villeurbanne-%f0%9f%87%ab%f0%9f%87%b7-2/
LOCATION:Salle Sainte Thérèse (Villeurbanne)\, 132 rue Louis Becker\, Villeurbanne\, 69100\, France
ORGANIZER;CN="YACHAD ELYON":MAILTO:yachadelyon@gmail.com
END:VEVENT
BEGIN:VEVENT
DTSTART;TZID=Europe/Paris:20251122T140000
DTEND;TZID=Europe/Paris:20251122T170000
DTSTAMP:20260420T124800
CREATED:20251105T175424Z
LAST-MODIFIED:20251105T175424Z
UID:2134-1763820000-1763830800@lalampedeyehoshoua.org
SUMMARY:Temps de partage - Villeurbanne 🇫🇷
DESCRIPTION:
URL:https://lalampedeyehoshoua.org/evenement/temps-de-partage-villeurbanne-%f0%9f%87%ab%f0%9f%87%b7/
LOCATION:Salle 1 – Villeurbanne\, 13 Place Wilson\, Villeurbanne\, 69100\, France
ORGANIZER;CN="YACHAD ELYON":MAILTO:yachadelyon@gmail.com
END:VEVENT
BEGIN:VEVENT
DTSTART;VALUE=DATE:20251119
DTEND;VALUE=DATE:20251124
DTSTAMP:20260420T124800
CREATED:20251102T081214Z
LAST-MODIFIED:20251102T081214Z
UID:2131-1763510400-1763942399@lalampedeyehoshoua.org
SUMMARY:Programmes - île de la Réunion 🇫🇷
DESCRIPTION:Pour plus d’informations\, rendez-vous sur le site internet de TV2VIE ou sur la chaîne WhatsApp
URL:https://lalampedeyehoshoua.org/evenement/programmes-ile-de-la-reunion-%f0%9f%87%ab%f0%9f%87%b7/
ATTACH;FMTTYPE=image/png:https://lalampedeyehoshoua.org/wp-content/uploads/2025/11/ANNONCES_cdpfPXw.png
ORGANIZER;CN="Tv2vie":MAILTO:contact@tv2vie.org
END:VEVENT
BEGIN:VEVENT
DTSTART;TZID=Europe/Paris:20251117T203000
DTEND;TZID=Europe/Paris:20251117T223000
DTSTAMP:20260420T124800
CREATED:20251028T221647Z
LAST-MODIFIED:20251111T173548Z
UID:2123-1763411400-1763418600@lalampedeyehoshoua.org
SUMMARY:Atelier d’écriture - Session #4
DESCRIPTION:Atelier d’écriture – Session #4 \nThème : Création d’une couverture / Impression et édition d’un livre \n⚠️ Inscription obligatoire (30 pers. max.) 👉 https://anothenlibrary.org/events
URL:https://lalampedeyehoshoua.org/evenement/atelier-decriture-session-4/
ATTACH;FMTTYPE=image/jpeg:https://lalampedeyehoshoua.org/wp-content/uploads/2025/11/147c102d-950d-4f6e-b067-49c52cd1903f.jpg
ORGANIZER;CN="Anothen Library":MAILTO:contact@anothenlibrary.org
END:VEVENT
BEGIN:VEVENT
DTSTART;TZID=Europe/Paris:20251103T203000
DTEND;TZID=Europe/Paris:20251103T223000
DTSTAMP:20260420T124800
CREATED:20251028T221208Z
LAST-MODIFIED:20251028T221208Z
UID:2120-1762201800-1762209000@lalampedeyehoshoua.org
SUMMARY:Atelier d’écriture - Session #3
DESCRIPTION:Atelier d’écriture – Session #3 \nThème : Mise en forme / Travail de relecture \n⚠️ Inscription obligatoire (30 pers. max.) 👉 https://anothenlibrary.org/events
URL:https://lalampedeyehoshoua.org/evenement/atelier-decriture-session-3/
ATTACH;FMTTYPE=image/jpeg:https://lalampedeyehoshoua.org/wp-content/uploads/2025/10/7977e8b7-2226-48ee-89ae-44db5929a749.jpeg
ORGANIZER;CN="Anothen Library":MAILTO:contact@anothenlibrary.org
END:VEVENT
BEGIN:VEVENT
DTSTART;TZID=Europe/Paris:20251027T203000
DTEND;TZID=Europe/Paris:20251027T223000
DTSTAMP:20260420T124800
CREATED:20251019T202844Z
LAST-MODIFIED:20251019T202844Z
UID:2104-1761597000-1761604200@lalampedeyehoshoua.org
SUMMARY:Atelier d'écriture - Session #2
DESCRIPTION:Atelier d’écriture – Session #2 \nThème : Création d’un sommaire / Travail de relecture \n⚠️ Inscription obligatoire (30 pers. max.) 👉 https://anothenlibrary.org/events
URL:https://lalampedeyehoshoua.org/evenement/atelier-decriture-session-2/
ATTACH;FMTTYPE=image/jpeg:https://lalampedeyehoshoua.org/wp-content/uploads/2025/10/WhatsApp-Image-2025-10-17-a-14.42.16_10b048ac.jpg
ORGANIZER;CN="Anothen Library":MAILTO:contact@anothenlibrary.org
END:VEVENT
BEGIN:VEVENT
DTSTART;VALUE=DATE:20251013
DTEND;VALUE=DATE:20251026
DTSTAMP:20260420T124800
CREATED:20250920T174759Z
LAST-MODIFIED:20250920T174759Z
UID:2083-1760313600-1761436799@lalampedeyehoshoua.org
SUMMARY:Campagne médicale et chirurgicale - Congo-kinshasha 🇨🇩
DESCRIPTION:
URL:https://lalampedeyehoshoua.org/evenement/campagne-medicale-et-chirurgicale-congo-kinshasha-%f0%9f%87%a8%f0%9f%87%a9/
LOCATION:Centre Hospitalier PAIN QUOTIDIEN\, Avenue du fleuve No33 Ngamanzo\, Maluku\, Kinshasa\, Congo\, Democratic Republic of the
ATTACH;FMTTYPE=image/jpeg:https://lalampedeyehoshoua.org/wp-content/uploads/2025/09/img_8269.jpg
ORGANIZER;CN="Le Centre Hospitalier Pain Quotidien":MAILTO:centrehospitalier@painquotidien.org
END:VEVENT
BEGIN:VEVENT
DTSTART;TZID=Europe/Paris:20251011T140000
DTEND;TZID=Europe/Paris:20251011T170000
DTSTAMP:20260420T124800
CREATED:20250830T101848Z
LAST-MODIFIED:20250915T101548Z
UID:2065-1760191200-1760202000@lalampedeyehoshoua.org
SUMMARY:Temps de partage - Amiens 🇫🇷
DESCRIPTION:
URL:https://lalampedeyehoshoua.org/evenement/temps-de-partage-amiens-%f0%9f%87%ab%f0%9f%87%b7/
LOCATION:B&B Hotêl\, 4 rue du Maréchal de Lattre de Tassigny\, Amiens\, 80000\, France
ATTACH;FMTTYPE=image/jpeg:https://lalampedeyehoshoua.org/wp-content/uploads/2025/09/1da14010-eed1-49f3-873c-76acdad14905.jpg
ORGANIZER;CN="Un Temps Pour Y%C3%A9hoshoua":MAILTO:untempspourjesus@gmail.com
END:VEVENT
BEGIN:VEVENT
DTSTART;VALUE=DATE:20251007
DTEND;VALUE=DATE:20251012
DTSTAMP:20260420T124800
CREATED:20250920T174634Z
LAST-MODIFIED:20250920T174634Z
UID:2081-1759795200-1760227199@lalampedeyehoshoua.org
SUMMARY:Campagne médicale - Congo-brazzaville 🇨🇬
DESCRIPTION:
URL:https://lalampedeyehoshoua.org/evenement/campagne-medicale-congo-brazzaville-%f0%9f%87%a8%f0%9f%87%ac/
LOCATION:Cercle Culturel Sony LABOU TANSI\, 1\, 2\, 3 rue Mbiemo Quartier la Glacière\, Brazzaville\, Bacongo\, Congo
ATTACH;FMTTYPE=image/jpeg:https://lalampedeyehoshoua.org/wp-content/uploads/2025/09/img_8268.jpg
ORGANIZER;CN="Le Centre Hospitalier Pain Quotidien":MAILTO:centrehospitalier@painquotidien.org
END:VEVENT
BEGIN:VEVENT
DTSTART;TZID=Europe/Paris:20251005T110000
DTEND;TZID=Europe/Paris:20251005T140000
DTSTAMP:20260420T124800
CREATED:20250925T115526Z
LAST-MODIFIED:20250926T150307Z
UID:2094-1759662000-1759672800@lalampedeyehoshoua.org
SUMMARY:Temps de partage - Lyon 🇫🇷
DESCRIPTION:
URL:https://lalampedeyehoshoua.org/evenement/temps-de-partage-lyon-%f0%9f%87%ab%f0%9f%87%b7-6/
ATTACH;FMTTYPE=image/jpeg:https://lalampedeyehoshoua.org/wp-content/uploads/2025/09/9673faff-d8de-461c-bb9e-55a00cc74e3e.jpeg
ORGANIZER;CN="YACHAD ELYON":MAILTO:yachadelyon@gmail.com
END:VEVENT
BEGIN:VEVENT
DTSTART;TZID=Europe/Paris:20251004T140000
DTEND;TZID=Europe/Paris:20251004T180000
DTSTAMP:20260420T124800
CREATED:20250830T101238Z
LAST-MODIFIED:20250926T150335Z
UID:2063-1759586400-1759600800@lalampedeyehoshoua.org
SUMMARY:Temps de partage - Lyon 🇫🇷
DESCRIPTION:
URL:https://lalampedeyehoshoua.org/evenement/temps-de-partage-lyon-%f0%9f%87%ab%f0%9f%87%b7-5/
ATTACH;FMTTYPE=image/jpeg:https://lalampedeyehoshoua.org/wp-content/uploads/2025/09/9673faff-d8de-461c-bb9e-55a00cc74e3e.jpeg
ORGANIZER;CN="YACHAD ELYON":MAILTO:yachadelyon@gmail.com
END:VEVENT
BEGIN:VEVENT
DTSTART;TZID=Europe/Paris:20250926T150000
DTEND;TZID=Europe/Paris:20250926T190000
DTSTAMP:20260420T124800
CREATED:20250920T174308Z
LAST-MODIFIED:20250920T174308Z
UID:2079-1758898800-1758913200@lalampedeyehoshoua.org
SUMMARY:Réunion de réveil - Centrafrique 🇨🇫
DESCRIPTION:Pour plus d’informations\, rendez-vous sur le site internet de TV2VIE ou sur la chaîne WhatsApp
URL:https://lalampedeyehoshoua.org/evenement/reunion-de-reveil-centrafrique-%f0%9f%87%a8%f0%9f%87%ab-2/
LOCATION:Salle de conférence de la caisse nationale de sécurité sociale\, Avenue Barthélémy Boganda\, Bangui\, Central African Republic
ATTACH;FMTTYPE=image/jpeg:https://lalampedeyehoshoua.org/wp-content/uploads/2025/09/img_8270.jpg
ORGANIZER;CN="Tv2vie":MAILTO:contact@tv2vie.org
END:VEVENT
BEGIN:VEVENT
DTSTART;TZID=Europe/Paris:20250921T160000
DTEND;TZID=Europe/Paris:20250921T190000
DTSTAMP:20260420T124800
CREATED:20250920T173731Z
LAST-MODIFIED:20250920T173731Z
UID:2076-1758470400-1758481200@lalampedeyehoshoua.org
SUMMARY:Réunion de réveil - Centrafrique 🇨🇫
DESCRIPTION:Pour plus d’informations\, rendez-vous sur le site internet de TV2VIE ou sur la chaîne WhatsApp
URL:https://lalampedeyehoshoua.org/evenement/reunion-de-reveil-centrafrique-%f0%9f%87%a8%f0%9f%87%ab/
LOCATION:Salle de conférence de la caisse nationale de sécurité sociale\, Avenue Barthélémy Boganda\, Bangui\, Central African Republic
ATTACH;FMTTYPE=image/jpeg:https://lalampedeyehoshoua.org/wp-content/uploads/2025/09/img_8270.jpg
ORGANIZER;CN="Tv2vie":MAILTO:contact@tv2vie.org
END:VEVENT
BEGIN:VEVENT
DTSTART;VALUE=DATE:20250912
DTEND;VALUE=DATE:20250915
DTSTAMP:20260420T124800
CREATED:20250706T205253Z
LAST-MODIFIED:20250706T205253Z
UID:1979-1757635200-1757894399@lalampedeyehoshoua.org
SUMMARY:Réunion de réveil - Île de la réunion
DESCRIPTION:Vendredi 12 septembre à partir de 19h00 \nSamedi 13 septembre à partir de 14h00 \nDimanche 14 septembre à partir de 10h00
URL:https://lalampedeyehoshoua.org/evenement/reunion-de-reveil-ile-de-la-reunion/
LOCATION:Hôtel La Villa Delisle\, 42 boulevard Hubert Delisle\, Saint-Pierre\, 97410\, France
ATTACH;FMTTYPE=image/png:https://lalampedeyehoshoua.org/wp-content/uploads/2025/07/iledelareunion.png
ORGANIZER;CN="Tv2vie":MAILTO:contact@tv2vie.org
END:VEVENT
BEGIN:VEVENT
DTSTART;TZID=Europe/Paris:20250824T110000
DTEND;TZID=Europe/Paris:20250824T170000
DTSTAMP:20260420T124800
CREATED:20250813T023741Z
LAST-MODIFIED:20250813T023741Z
UID:2031-1756033200-1756054800@lalampedeyehoshoua.org
SUMMARY:Journée de réveil 🇫🇷
DESCRIPTION:Pour plus d’informations\, rendez-vous sur le site internet de TV2VIE ou sur la chaîne WhatsApp.
URL:https://lalampedeyehoshoua.org/evenement/journee-de-reveil-%f0%9f%87%ab%f0%9f%87%b7/
LOCATION:Salle Dunya\, 15 rue du fer\, Savigny-le-temple\, 77176\, France
ATTACH;FMTTYPE=image/png:https://lalampedeyehoshoua.org/wp-content/uploads/2025/08/img_7208-1.png
ORGANIZER;CN="Tv2vie":MAILTO:contact@tv2vie.org
END:VEVENT
BEGIN:VEVENT
DTSTART;TZID=Europe/Paris:20250816T110000
DTEND;TZID=Europe/Paris:20250816T150000
DTSTAMP:20260420T124800
CREATED:20250730T165559Z
LAST-MODIFIED:20250730T165727Z
UID:2019-1755342000-1755356400@lalampedeyehoshoua.org
SUMMARY:Réunion de réveil - Belgique 🇧🇪
DESCRIPTION:Pour plus d’informations\, rendez-vous sur le site internet de TV2VIE ou sur la chaîne WhatsApp
URL:https://lalampedeyehoshoua.org/evenement/reunion-de-reveil-belgique-%f0%9f%87%a7%f0%9f%87%aa/
LOCATION:BELGIQUE POUR YEHOSHOUA\, Jachtweg 1\, Buggenhout\, 9255\, Belgium
ATTACH;FMTTYPE=image/png:https://lalampedeyehoshoua.org/wp-content/uploads/2025/07/IMG_7050.png
ORGANIZER;CN="Tv2vie":MAILTO:contact@tv2vie.org
END:VEVENT
BEGIN:VEVENT
DTSTART;TZID=Europe/Paris:20250810T110000
DTEND;TZID=Europe/Paris:20250810T170000
DTSTAMP:20260420T124800
CREATED:20250729T171121Z
LAST-MODIFIED:20250729T171121Z
UID:2015-1754823600-1754845200@lalampedeyehoshoua.org
SUMMARY:Réunion de réveil - Poitiers
DESCRIPTION:
URL:https://lalampedeyehoshoua.org/evenement/reunion-de-reveil-poitiers/
LOCATION:Salle Agora\, 16 avenue Gérard-Girault\, Jaunay-Marigny\, 86130\, France
ATTACH;FMTTYPE=image/png:https://lalampedeyehoshoua.org/wp-content/uploads/2025/07/img_7048.png
ORGANIZER;CN="Tv2vie":MAILTO:contact@tv2vie.org
END:VEVENT
BEGIN:VEVENT
DTSTART;VALUE=DATE:20250729
DTEND;VALUE=DATE:20250801
DTSTAMP:20260420T124800
CREATED:20250619T230916Z
LAST-MODIFIED:20250619T230916Z
UID:1926-1753747200-1754006399@lalampedeyehoshoua.org
SUMMARY:Formation biblique - Montréal
DESCRIPTION:Information sur le site internet de Tv2vie \nFORMATION BIBLIQUE :  \nDU MARDI 29 AU JEUDI 31 JUILLET 2025 | À PARTIR DE 18H30
URL:https://lalampedeyehoshoua.org/evenement/formation-biblique-montreal/
LOCATION:Salle Empire Royal\, 5605 Rue d'Amos\, Montréal-Nord\, Québec\, H1G 2Y3\, Canada
ATTACH;FMTTYPE=image/png:https://lalampedeyehoshoua.org/wp-content/uploads/2025/06/montreal.png
ORGANIZER;CN="Tv2vie":MAILTO:contact@tv2vie.org
END:VEVENT
BEGIN:VEVENT
DTSTART;TZID=Europe/Paris:20250727T140000
DTEND;TZID=Europe/Paris:20250727T170000
DTSTAMP:20260420T124800
CREATED:20250619T230718Z
LAST-MODIFIED:20250619T230718Z
UID:1923-1753624800-1753635600@lalampedeyehoshoua.org
SUMMARY:Réunion de réveil - Montréal
DESCRIPTION:Information sur le site internet de Tv2vie
URL:https://lalampedeyehoshoua.org/evenement/reunion-de-reveil-montreal/
LOCATION:Salle Empire Royal\, 5605 Rue d'Amos\, Montréal-Nord\, Québec\, H1G 2Y3\, Canada
ATTACH;FMTTYPE=image/png:https://lalampedeyehoshoua.org/wp-content/uploads/2025/06/montreal.png
ORGANIZER;CN="Tv2vie":MAILTO:contact@tv2vie.org
END:VEVENT
BEGIN:VEVENT
DTSTART;TZID=Europe/Paris:20250726T140000
DTEND;TZID=Europe/Paris:20250726T173000
DTSTAMP:20260420T124800
CREATED:20250722T232811Z
LAST-MODIFIED:20250722T232811Z
UID:2000-1753538400-1753551000@lalampedeyehoshoua.org
SUMMARY:Temps de partage - Lyon 🇫🇷
DESCRIPTION:Pour être informé des différents programmes\, rendez-vous sur la chaîne Whatsapp : Lyon Pour Yéhoshoua
URL:https://lalampedeyehoshoua.org/evenement/temps-de-partage-lyon-%f0%9f%87%ab%f0%9f%87%b7-3/
LOCATION:Lyon pour Yehoshoua\, 13 place Wilson\, Villeurbanne\, 69100\, France
ORGANIZER;CN="YACHAD ELYON":MAILTO:yachadelyon@gmail.com
END:VEVENT
BEGIN:VEVENT
DTSTART;TZID=Europe/Paris:20250726T140000
DTEND;TZID=Europe/Paris:20250726T170000
DTSTAMP:20260420T124800
CREATED:20250724T130253Z
LAST-MODIFIED:20250724T130253Z
UID:2004-1753538400-1753549200@lalampedeyehoshoua.org
SUMMARY:Rencontre biblique 🇧🇪
DESCRIPTION:
URL:https://lalampedeyehoshoua.org/evenement/rencontre-biblique-%f0%9f%87%a7%f0%9f%87%aa/
LOCATION:BELGIQUE POUR YEHOSHOUA\, Jachtweg 1\, Buggenhout\, 9255\, Belgium
ATTACH;FMTTYPE=image/jpeg:https://lalampedeyehoshoua.org/wp-content/uploads/2025/07/img_6993.jpg
ORGANIZER;CN="Vases de terre":MAILTO:vases2terre@gmail.com
END:VEVENT
END:VCALENDAR