BEGIN:VCALENDAR
VERSION:2.0
PRODID:-//La lampe de Yéhoshoua - ECPv6.15.20//NONSGML v1.0//EN
CALSCALE:GREGORIAN
METHOD:PUBLISH
X-ORIGINAL-URL:https://lalampedeyehoshoua.org
X-WR-CALDESC:Évènements pour La lampe de Yéhoshoua
REFRESH-INTERVAL;VALUE=DURATION:PT1H
X-Robots-Tag:noindex
X-PUBLISHED-TTL:PT1H
BEGIN:VTIMEZONE
TZID:Europe/Paris
BEGIN:DAYLIGHT
TZOFFSETFROM:+0100
TZOFFSETTO:+0200
TZNAME:CEST
DTSTART:20240331T010000
END:DAYLIGHT
BEGIN:STANDARD
TZOFFSETFROM:+0200
TZOFFSETTO:+0100
TZNAME:CET
DTSTART:20241027T010000
END:STANDARD
BEGIN:DAYLIGHT
TZOFFSETFROM:+0100
TZOFFSETTO:+0200
TZNAME:CEST
DTSTART:20250330T010000
END:DAYLIGHT
BEGIN:STANDARD
TZOFFSETFROM:+0200
TZOFFSETTO:+0100
TZNAME:CET
DTSTART:20251026T010000
END:STANDARD
BEGIN:DAYLIGHT
TZOFFSETFROM:+0100
TZOFFSETTO:+0200
TZNAME:CEST
DTSTART:20260329T010000
END:DAYLIGHT
BEGIN:STANDARD
TZOFFSETFROM:+0200
TZOFFSETTO:+0100
TZNAME:CET
DTSTART:20261025T010000
END:STANDARD
END:VTIMEZONE
BEGIN:VEVENT
DTSTART;VALUE=DATE:20250315
DTEND;VALUE=DATE:20250317
DTSTAMP:20260421T102117
CREATED:20250211T112839Z
LAST-MODIFIED:20250211T112839Z
UID:1694-1741996800-1742169599@lalampedeyehoshoua.org
SUMMARY:Temps de partage - Lyon 🇫🇷
DESCRIPTION:Actes (Actes) 2 \n42 Et ils persévéraient tous dans la doctrine des apôtres\, dans la communion fraternelle\, dans la fraction du pain et dans les prières. \nBible de Yéhoshoua ha Mashiah (BYM)
URL:https://lalampedeyehoshoua.org/evenement/temps-de-partage-lyon-%f0%9f%87%ab%f0%9f%87%b7/
ATTACH;FMTTYPE=image/jpeg:https://lalampedeyehoshoua.org/wp-content/uploads/2025/02/WhatsApp-Image-2025-02-10-a-15.58.22_ca7d724b.jpg
ORGANIZER;CN="Un Temps Pour Y%C3%A9hoshoua":MAILTO:untempspourjesus@gmail.com
END:VEVENT
BEGIN:VEVENT
DTSTART;VALUE=DATE:20250315
DTEND;VALUE=DATE:20250318
DTSTAMP:20260421T102117
CREATED:20250211T155045Z
LAST-MODIFIED:20250211T155045Z
UID:1698-1741996800-1742255999@lalampedeyehoshoua.org
SUMMARY:Réunions de réveil - Côte d'Ivoire 🇨🇮
DESCRIPTION:Réunions de réveil et consultations médicales gratuites. \nPour plus d’informations\, rendez-vous sur le site internet de TV2VIE – https://www.tv2vie.org
URL:https://lalampedeyehoshoua.org/evenement/reunions-de-reveil-cote-divoire-%f0%9f%87%a8%f0%9f%87%ae/
LOCATION:Espace Marthe\, Yopougon Ancien Bel Air\, Abidjan\, Côte d'Ivoire
ATTACH;FMTTYPE=image/png:https://lalampedeyehoshoua.org/wp-content/uploads/2025/02/Template_slide_internationale_2.png
ORGANIZER;CN="Tv2vie":MAILTO:contact@tv2vie.org
END:VEVENT
END:VCALENDAR