BEGIN:VCALENDAR
VERSION:2.0
PRODID:-//La lampe de Yéhoshoua - ECPv6.15.20//NONSGML v1.0//EN
CALSCALE:GREGORIAN
METHOD:PUBLISH
X-WR-CALNAME:La lampe de Yéhoshoua
X-ORIGINAL-URL:https://lalampedeyehoshoua.org
X-WR-CALDESC:Évènements pour La lampe de Yéhoshoua
REFRESH-INTERVAL;VALUE=DURATION:PT1H
X-Robots-Tag:noindex
X-PUBLISHED-TTL:PT1H
BEGIN:VTIMEZONE
TZID:Europe/Paris
BEGIN:DAYLIGHT
TZOFFSETFROM:+0100
TZOFFSETTO:+0200
TZNAME:CEST
DTSTART:20240331T010000
END:DAYLIGHT
BEGIN:STANDARD
TZOFFSETFROM:+0200
TZOFFSETTO:+0100
TZNAME:CET
DTSTART:20241027T010000
END:STANDARD
BEGIN:DAYLIGHT
TZOFFSETFROM:+0100
TZOFFSETTO:+0200
TZNAME:CEST
DTSTART:20250330T010000
END:DAYLIGHT
BEGIN:STANDARD
TZOFFSETFROM:+0200
TZOFFSETTO:+0100
TZNAME:CET
DTSTART:20251026T010000
END:STANDARD
BEGIN:DAYLIGHT
TZOFFSETFROM:+0100
TZOFFSETTO:+0200
TZNAME:CEST
DTSTART:20260329T010000
END:DAYLIGHT
BEGIN:STANDARD
TZOFFSETFROM:+0200
TZOFFSETTO:+0100
TZNAME:CET
DTSTART:20261025T010000
END:STANDARD
END:VTIMEZONE
BEGIN:VEVENT
DTSTART;TZID=Europe/Paris:20250307T220000
DTEND;TZID=Europe/Paris:20250308T050000
DTSTAMP:20260421T101643
CREATED:20250305T091710Z
LAST-MODIFIED:20250305T091710Z
UID:1763-1741384800-1741410000@lalampedeyehoshoua.org
SUMMARY:Veillée des femmes - Meaux 🇫🇷
DESCRIPTION:Une salutation aux filles du Roi 🌸 \nRendez-vous le vendredi 7 mars à partir de 22h à Villenoy\, près de la ville de Meaux. \nUne occasion de pouvoir échanger autour de la parole et de s’encourager. N’hésitez pas à inviter vos mères\, tantes\, sœurs\, amies… \nContact : 0781488780
URL:https://lalampedeyehoshoua.org/evenement/veillee-des-femmes-meaux-%f0%9f%87%ab%f0%9f%87%b7/
LOCATION:Assemblée de Meaux\, 41 rue Aristide Briand\, Villenoy\, 77124\, France
END:VEVENT
END:VCALENDAR