BEGIN:VCALENDAR
VERSION:2.0
PRODID:-//La lampe de Yéhoshoua - ECPv6.15.20//NONSGML v1.0//EN
CALSCALE:GREGORIAN
METHOD:PUBLISH
X-ORIGINAL-URL:https://lalampedeyehoshoua.org
X-WR-CALDESC:Évènements pour La lampe de Yéhoshoua
REFRESH-INTERVAL;VALUE=DURATION:PT1H
X-Robots-Tag:noindex
X-PUBLISHED-TTL:PT1H
BEGIN:VTIMEZONE
TZID:Europe/Paris
BEGIN:DAYLIGHT
TZOFFSETFROM:+0100
TZOFFSETTO:+0200
TZNAME:CEST
DTSTART:20240331T010000
END:DAYLIGHT
BEGIN:STANDARD
TZOFFSETFROM:+0200
TZOFFSETTO:+0100
TZNAME:CET
DTSTART:20241027T010000
END:STANDARD
BEGIN:DAYLIGHT
TZOFFSETFROM:+0100
TZOFFSETTO:+0200
TZNAME:CEST
DTSTART:20250330T010000
END:DAYLIGHT
BEGIN:STANDARD
TZOFFSETFROM:+0200
TZOFFSETTO:+0100
TZNAME:CET
DTSTART:20251026T010000
END:STANDARD
BEGIN:DAYLIGHT
TZOFFSETFROM:+0100
TZOFFSETTO:+0200
TZNAME:CEST
DTSTART:20260329T010000
END:DAYLIGHT
BEGIN:STANDARD
TZOFFSETFROM:+0200
TZOFFSETTO:+0100
TZNAME:CET
DTSTART:20261025T010000
END:STANDARD
END:VTIMEZONE
BEGIN:VEVENT
DTSTART;VALUE=DATE:20250111
DTEND;VALUE=DATE:20250113
DTSTAMP:20260421T132312
CREATED:20241231T061253Z
LAST-MODIFIED:20250104T002747Z
UID:1496-1736553600-1736726399@lalampedeyehoshoua.org
SUMMARY:Réunions de réveil - Lyon 🇫🇷
DESCRIPTION:Itinéraire 1 :\nMétro B direction saint genis Laval\nArrêt : Debourg\nPuis Bus 60 direction Feyzin les Razes\nArrêt : saint fons Mairie \nItinéraire 2 :\nMétro B direction saint genis Laval\nArrêt : jean Macé\nBus C12 direction hôpital Feyzin\nArrêt : Saint fons Bourrelier
URL:https://lalampedeyehoshoua.org/evenement/reunion-de-reveil-lyon-%f0%9f%87%ab%f0%9f%87%b7/
ATTACH;FMTTYPE=image/png:https://lalampedeyehoshoua.org/wp-content/uploads/2024/12/Lyon.png
ORGANIZER;CN="Tv2vie":MAILTO:contact@tv2vie.org
END:VEVENT
END:VCALENDAR