BEGIN:VCALENDAR
VERSION:2.0
PRODID:-//La lampe de Yéhoshoua - ECPv6.15.20//NONSGML v1.0//EN
CALSCALE:GREGORIAN
METHOD:PUBLISH
X-ORIGINAL-URL:https://lalampedeyehoshoua.org
X-WR-CALDESC:Évènements pour La lampe de Yéhoshoua
REFRESH-INTERVAL;VALUE=DURATION:PT1H
X-Robots-Tag:noindex
X-PUBLISHED-TTL:PT1H
BEGIN:VTIMEZONE
TZID:Europe/Paris
BEGIN:DAYLIGHT
TZOFFSETFROM:+0100
TZOFFSETTO:+0200
TZNAME:CEST
DTSTART:20230326T010000
END:DAYLIGHT
BEGIN:STANDARD
TZOFFSETFROM:+0200
TZOFFSETTO:+0100
TZNAME:CET
DTSTART:20231029T010000
END:STANDARD
BEGIN:DAYLIGHT
TZOFFSETFROM:+0100
TZOFFSETTO:+0200
TZNAME:CEST
DTSTART:20240331T010000
END:DAYLIGHT
BEGIN:STANDARD
TZOFFSETFROM:+0200
TZOFFSETTO:+0100
TZNAME:CET
DTSTART:20241027T010000
END:STANDARD
BEGIN:DAYLIGHT
TZOFFSETFROM:+0100
TZOFFSETTO:+0200
TZNAME:CEST
DTSTART:20250330T010000
END:DAYLIGHT
BEGIN:STANDARD
TZOFFSETFROM:+0200
TZOFFSETTO:+0100
TZNAME:CET
DTSTART:20251026T010000
END:STANDARD
END:VTIMEZONE
BEGIN:VEVENT
DTSTART;VALUE=DATE:20241030
DTEND;VALUE=DATE:20241104
DTSTAMP:20260421T163324
CREATED:20241017T112431Z
LAST-MODIFIED:20241017T112431Z
UID:1378-1730246400-1730678399@lalampedeyehoshoua.org
SUMMARY:Réunion de réveil en Afrique du Sud 🇿🇦
DESCRIPTION:
URL:https://lalampedeyehoshoua.org/evenement/reunion-de-reveil-en-afrique-du-sud-%f0%9f%87%bf%f0%9f%87%a6/
ATTACH;FMTTYPE=image/jpeg:https://lalampedeyehoshoua.org/wp-content/uploads/2024/10/8e2bdf9b-ca4d-4914-b078-47b6f652eef7.jpeg
ORGANIZER;CN="Tv2vie":MAILTO:contact@tv2vie.org
END:VEVENT
BEGIN:VEVENT
DTSTART;TZID=Europe/Paris:20241101T220000
DTEND;TZID=Europe/Paris:20241103T090000
DTSTAMP:20260421T163324
CREATED:20241019T140937Z
LAST-MODIFIED:20241019T140937Z
UID:1382-1730498400-1730624400@lalampedeyehoshoua.org
SUMMARY:Retraite avec l'assemblée de Meaux
DESCRIPTION:Temps de prière et d’enseignement
URL:https://lalampedeyehoshoua.org/evenement/retraite-avec-lassemblee-de-meaux/
LOCATION:Assemblée de Meaux\, 41 rue Aristide Briand\, Villenoy\, 77124\, France
ORGANIZER;CN="Un Temps Pour Y%C3%A9hoshoua":MAILTO:untempspourjesus@gmail.com
END:VEVENT
END:VCALENDAR