BEGIN:VCALENDAR
VERSION:2.0
PRODID:-//La lampe de Yéhoshoua - ECPv6.15.20//NONSGML v1.0//EN
CALSCALE:GREGORIAN
METHOD:PUBLISH
X-WR-CALNAME:La lampe de Yéhoshoua
X-ORIGINAL-URL:https://lalampedeyehoshoua.org
X-WR-CALDESC:Évènements pour La lampe de Yéhoshoua
REFRESH-INTERVAL;VALUE=DURATION:PT1H
X-Robots-Tag:noindex
X-PUBLISHED-TTL:PT1H
BEGIN:VTIMEZONE
TZID:Europe/Paris
BEGIN:DAYLIGHT
TZOFFSETFROM:+0100
TZOFFSETTO:+0200
TZNAME:CEST
DTSTART:20230326T010000
END:DAYLIGHT
BEGIN:STANDARD
TZOFFSETFROM:+0200
TZOFFSETTO:+0100
TZNAME:CET
DTSTART:20231029T010000
END:STANDARD
BEGIN:DAYLIGHT
TZOFFSETFROM:+0100
TZOFFSETTO:+0200
TZNAME:CEST
DTSTART:20240331T010000
END:DAYLIGHT
BEGIN:STANDARD
TZOFFSETFROM:+0200
TZOFFSETTO:+0100
TZNAME:CET
DTSTART:20241027T010000
END:STANDARD
BEGIN:DAYLIGHT
TZOFFSETFROM:+0100
TZOFFSETTO:+0200
TZNAME:CEST
DTSTART:20250330T010000
END:DAYLIGHT
BEGIN:STANDARD
TZOFFSETFROM:+0200
TZOFFSETTO:+0100
TZNAME:CET
DTSTART:20251026T010000
END:STANDARD
END:VTIMEZONE
BEGIN:VEVENT
DTSTART;VALUE=DATE:20241011
DTEND;VALUE=DATE:20241021
DTSTAMP:20260421T180900
CREATED:20241002T204652Z
LAST-MODIFIED:20241002T204652Z
UID:1354-1728604800-1729468799@lalampedeyehoshoua.org
SUMMARY:Mission au Cameroun 🇨🇲
DESCRIPTION:Pour plus d’informations\, rendez-vous sur le site internet de Tv2vie – https://www.tv2vie.org
URL:https://lalampedeyehoshoua.org/evenement/mission-au-cameroun-%f0%9f%87%a8%f0%9f%87%b2/
ATTACH;FMTTYPE=image/jpeg:https://lalampedeyehoshoua.org/wp-content/uploads/2024/10/e9debb7a-a0ac-434a-8166-2de090ab1f50.jpeg
ORGANIZER;CN="Tv2vie":MAILTO:contact@tv2vie.org
END:VEVENT
BEGIN:VEVENT
DTSTART;TZID=Europe/Paris:20241011T220000
DTEND;TZID=Europe/Paris:20241013T140000
DTSTAMP:20260421T180900
CREATED:20240722T210621Z
LAST-MODIFIED:20240813T213325Z
UID:1237-1728684000-1728828000@lalampedeyehoshoua.org
SUMMARY:Retraite avec l'assemblée de Lyon
DESCRIPTION:Enseignements et prières \n« Et ils persévéraient tous dans la doctrine des apôtres\, dans la communion fraternelle\, dans la fraction du pain et dans les prières. » Actes 2:42
URL:https://lalampedeyehoshoua.org/evenement/retraite-avec-lassemblee-de-lyon/
ORGANIZER;CN="Un Temps Pour Y%C3%A9hoshoua":MAILTO:untempspourjesus@gmail.com
END:VEVENT
BEGIN:VEVENT
DTSTART;VALUE=DATE:20241012
DTEND;VALUE=DATE:20241014
DTSTAMP:20260421T180900
CREATED:20240928T224817Z
LAST-MODIFIED:20240928T224817Z
UID:1346-1728691200-1728863999@lalampedeyehoshoua.org
SUMMARY:Week-end d'édification à Chartres
DESCRIPTION:Samedi 12 octobre à partir de 15h \nDimanche 13 octobre à partir de 10h30
URL:https://lalampedeyehoshoua.org/evenement/week-end-dedification-a-chartres/
ATTACH;FMTTYPE=image/jpeg:https://lalampedeyehoshoua.org/wp-content/uploads/2024/09/WhatsApp-Image-2024-09-27-a-22.54.27_842557f3.jpg
END:VEVENT
END:VCALENDAR