BEGIN:VCALENDAR
VERSION:2.0
PRODID:-//La lampe de Yéhoshoua - ECPv6.15.20//NONSGML v1.0//EN
CALSCALE:GREGORIAN
METHOD:PUBLISH
X-ORIGINAL-URL:https://lalampedeyehoshoua.org
X-WR-CALDESC:Évènements pour La lampe de Yéhoshoua
REFRESH-INTERVAL;VALUE=DURATION:PT1H
X-Robots-Tag:noindex
X-PUBLISHED-TTL:PT1H
BEGIN:VTIMEZONE
TZID:Europe/Paris
BEGIN:DAYLIGHT
TZOFFSETFROM:+0100
TZOFFSETTO:+0200
TZNAME:CEST
DTSTART:20230326T010000
END:DAYLIGHT
BEGIN:STANDARD
TZOFFSETFROM:+0200
TZOFFSETTO:+0100
TZNAME:CET
DTSTART:20231029T010000
END:STANDARD
BEGIN:DAYLIGHT
TZOFFSETFROM:+0100
TZOFFSETTO:+0200
TZNAME:CEST
DTSTART:20240331T010000
END:DAYLIGHT
BEGIN:STANDARD
TZOFFSETFROM:+0200
TZOFFSETTO:+0100
TZNAME:CET
DTSTART:20241027T010000
END:STANDARD
BEGIN:DAYLIGHT
TZOFFSETFROM:+0100
TZOFFSETTO:+0200
TZNAME:CEST
DTSTART:20250330T010000
END:DAYLIGHT
BEGIN:STANDARD
TZOFFSETFROM:+0200
TZOFFSETTO:+0100
TZNAME:CET
DTSTART:20251026T010000
END:STANDARD
END:VTIMEZONE
BEGIN:VEVENT
DTSTART;VALUE=DATE:20240817
DTEND;VALUE=DATE:20240819
DTSTAMP:20260421T230758
CREATED:20240812T180515Z
LAST-MODIFIED:20240812T180515Z
UID:1286-1723852800-1724025599@lalampedeyehoshoua.org
SUMMARY:Week-end de prière
DESCRIPTION:2 journées de réunion de réveil
URL:https://lalampedeyehoshoua.org/evenement/week-end-de-priere/
END:VEVENT
BEGIN:VEVENT
DTSTART;TZID=Europe/Paris:20240817T140000
DTEND;TZID=Europe/Paris:20240817T180000
DTSTAMP:20260421T230758
CREATED:20240813T213726Z
LAST-MODIFIED:20240814T151847Z
UID:1290-1723903200-1723917600@lalampedeyehoshoua.org
SUMMARY:Prière et enseignement à Chartres
DESCRIPTION:Pour connaître l’adresse précise du lieu de rencontre\, veuillez nous écrire en privé.
URL:https://lalampedeyehoshoua.org/evenement/priere-et-enseignement-a-chartres/
ORGANIZER;CN="Un Temps Pour Y%C3%A9hoshoua":MAILTO:untempspourjesus@gmail.com
END:VEVENT
END:VCALENDAR