BEGIN:VCALENDAR
VERSION:2.0
PRODID:-//La lampe de Yéhoshoua - ECPv6.15.20//NONSGML v1.0//EN
CALSCALE:GREGORIAN
METHOD:PUBLISH
X-WR-CALNAME:La lampe de Yéhoshoua
X-ORIGINAL-URL:https://lalampedeyehoshoua.org
X-WR-CALDESC:Évènements pour La lampe de Yéhoshoua
REFRESH-INTERVAL;VALUE=DURATION:PT1H
X-Robots-Tag:noindex
X-PUBLISHED-TTL:PT1H
BEGIN:VTIMEZONE
TZID:Europe/Paris
BEGIN:DAYLIGHT
TZOFFSETFROM:+0100
TZOFFSETTO:+0200
TZNAME:CEST
DTSTART:20230326T010000
END:DAYLIGHT
BEGIN:STANDARD
TZOFFSETFROM:+0200
TZOFFSETTO:+0100
TZNAME:CET
DTSTART:20231029T010000
END:STANDARD
BEGIN:DAYLIGHT
TZOFFSETFROM:+0100
TZOFFSETTO:+0200
TZNAME:CEST
DTSTART:20240331T010000
END:DAYLIGHT
BEGIN:STANDARD
TZOFFSETFROM:+0200
TZOFFSETTO:+0100
TZNAME:CET
DTSTART:20241027T010000
END:STANDARD
BEGIN:DAYLIGHT
TZOFFSETFROM:+0100
TZOFFSETTO:+0200
TZNAME:CEST
DTSTART:20250330T010000
END:DAYLIGHT
BEGIN:STANDARD
TZOFFSETFROM:+0200
TZOFFSETTO:+0100
TZNAME:CET
DTSTART:20251026T010000
END:STANDARD
END:VTIMEZONE
BEGIN:VEVENT
DTSTART;VALUE=DATE:20240709
DTEND;VALUE=DATE:20240711
DTSTAMP:20260421T230317
CREATED:20240614T045305Z
LAST-MODIFIED:20240615T133515Z
UID:1148-1720483200-1720655999@lalampedeyehoshoua.org
SUMMARY:Mission Guadeloupe
DESCRIPTION:
URL:https://lalampedeyehoshoua.org/evenement/mission-guadeloupe-2/
ORGANIZER;CN="Vases de terre":MAILTO:vases2terre@gmail.com
END:VEVENT
END:VCALENDAR