BEGIN:VCALENDAR
VERSION:2.0
PRODID:-//La lampe de Yéhoshoua - ECPv6.15.20//NONSGML v1.0//EN
CALSCALE:GREGORIAN
METHOD:PUBLISH
X-ORIGINAL-URL:https://lalampedeyehoshoua.org
X-WR-CALDESC:Évènements pour La lampe de Yéhoshoua
REFRESH-INTERVAL;VALUE=DURATION:PT1H
X-Robots-Tag:noindex
X-PUBLISHED-TTL:PT1H
BEGIN:VTIMEZONE
TZID:Europe/Paris
BEGIN:DAYLIGHT
TZOFFSETFROM:+0100
TZOFFSETTO:+0200
TZNAME:CEST
DTSTART:20230326T010000
END:DAYLIGHT
BEGIN:STANDARD
TZOFFSETFROM:+0200
TZOFFSETTO:+0100
TZNAME:CET
DTSTART:20231029T010000
END:STANDARD
BEGIN:DAYLIGHT
TZOFFSETFROM:+0100
TZOFFSETTO:+0200
TZNAME:CEST
DTSTART:20240331T010000
END:DAYLIGHT
BEGIN:STANDARD
TZOFFSETFROM:+0200
TZOFFSETTO:+0100
TZNAME:CET
DTSTART:20241027T010000
END:STANDARD
BEGIN:DAYLIGHT
TZOFFSETFROM:+0100
TZOFFSETTO:+0200
TZNAME:CEST
DTSTART:20250330T010000
END:DAYLIGHT
BEGIN:STANDARD
TZOFFSETFROM:+0200
TZOFFSETTO:+0100
TZNAME:CET
DTSTART:20251026T010000
END:STANDARD
END:VTIMEZONE
BEGIN:VEVENT
DTSTART;VALUE=DATE:20240705
DTEND;VALUE=DATE:20240708
DTSTAMP:20260421T230736
CREATED:20240430T132222Z
LAST-MODIFIED:20240515T073007Z
UID:926-1720137600-1720396799@lalampedeyehoshoua.org
SUMMARY:Réunions de réveil au Canada
DESCRIPTION:
URL:https://lalampedeyehoshoua.org/evenement/reunions-de-reveil-au-canada/
ORGANIZER;CN="Tv2vie":MAILTO:contact@tv2vie.org
END:VEVENT
BEGIN:VEVENT
DTSTART;VALUE=DATE:20240705
DTEND;VALUE=DATE:20240708
DTSTAMP:20260421T230736
CREATED:20240614T045848Z
LAST-MODIFIED:20240614T045848Z
UID:1150-1720137600-1720396799@lalampedeyehoshoua.org
SUMMARY:Mission Saint-Martin
DESCRIPTION:
URL:https://lalampedeyehoshoua.org/evenement/mission-saint-martin/
ORGANIZER;CN="Vases de terre":MAILTO:vases2terre@gmail.com
END:VEVENT
BEGIN:VEVENT
DTSTART;VALUE=DATE:20240706
DTEND;VALUE=DATE:20240708
DTSTAMP:20260421T230736
CREATED:20240609T121755Z
LAST-MODIFIED:20240609T121755Z
UID:1129-1720224000-1720396799@lalampedeyehoshoua.org
SUMMARY:Réunion des femmes - Caen
DESCRIPTION:
URL:https://lalampedeyehoshoua.org/evenement/reunion-des-femmes-caen/
END:VEVENT
BEGIN:VEVENT
DTSTART;TZID=Europe/Paris:20240707T110000
DTEND;TZID=Europe/Paris:20240707T130000
DTSTAMP:20260421T230736
CREATED:20240630T205335Z
LAST-MODIFIED:20240630T205335Z
UID:1197-1720350000-1720357200@lalampedeyehoshoua.org
SUMMARY:Temps d'enseignement biblique
DESCRIPTION:Thème : Le discernement spirituel
URL:https://lalampedeyehoshoua.org/evenement/temps-denseignement-biblique/
LOCATION:Hôtel Campanile\, 40 rue de la république\, Orléans\, 45000\, France
ORGANIZER;CN="Un Temps Pour Y%C3%A9hoshoua":MAILTO:untempspourjesus@gmail.com
END:VEVENT
END:VCALENDAR