BEGIN:VCALENDAR
VERSION:2.0
PRODID:-//La lampe de Yéhoshoua - ECPv6.15.20//NONSGML v1.0//EN
CALSCALE:GREGORIAN
METHOD:PUBLISH
X-WR-CALNAME:La lampe de Yéhoshoua
X-ORIGINAL-URL:https://lalampedeyehoshoua.org
X-WR-CALDESC:Évènements pour La lampe de Yéhoshoua
REFRESH-INTERVAL;VALUE=DURATION:PT1H
X-Robots-Tag:noindex
X-PUBLISHED-TTL:PT1H
BEGIN:VTIMEZONE
TZID:Europe/Paris
BEGIN:DAYLIGHT
TZOFFSETFROM:+0100
TZOFFSETTO:+0200
TZNAME:CEST
DTSTART:20230326T010000
END:DAYLIGHT
BEGIN:STANDARD
TZOFFSETFROM:+0200
TZOFFSETTO:+0100
TZNAME:CET
DTSTART:20231029T010000
END:STANDARD
BEGIN:DAYLIGHT
TZOFFSETFROM:+0100
TZOFFSETTO:+0200
TZNAME:CEST
DTSTART:20240331T010000
END:DAYLIGHT
BEGIN:STANDARD
TZOFFSETFROM:+0200
TZOFFSETTO:+0100
TZNAME:CET
DTSTART:20241027T010000
END:STANDARD
BEGIN:DAYLIGHT
TZOFFSETFROM:+0100
TZOFFSETTO:+0200
TZNAME:CEST
DTSTART:20250330T010000
END:DAYLIGHT
BEGIN:STANDARD
TZOFFSETFROM:+0200
TZOFFSETTO:+0100
TZNAME:CET
DTSTART:20251026T010000
END:STANDARD
END:VTIMEZONE
BEGIN:VEVENT
DTSTART;VALUE=DATE:20240423
DTEND;VALUE=DATE:20240430
DTSTAMP:20260424T121843
CREATED:20240425T213513Z
LAST-MODIFIED:20240425T213513Z
UID:766-1713830400-1714435199@lalampedeyehoshoua.org
SUMMARY:Mission en Côte d'Ivoire
DESCRIPTION:
URL:https://lalampedeyehoshoua.org/evenement/mission-en-cote-divoire/
LOCATION:Kinshasa
ORGANIZER;CN="Vases de terre":MAILTO:vases2terre@gmail.com
END:VEVENT
END:VCALENDAR